BEGIN:VCALENDAR
PRODID:-//kirchenweb.ch gmbh//veranstaltungsausgabe v2.0//DE
VERSION:2.0
METHOD:PUBLISH
BEGIN:VEVENT
DTSTART:20260427T070000Z
DTEND:20260427T090000Z
LOCATION:Pfarrhaussäli\, Herrengasse 28\, 8213 Neunkirch
TRANSP:OPAQUE
SEQUENCE:0
UID:194005-veranstaltung@ref-sh.ch
DTSTAMP:20260126T084548Z
DESCRIPTION:Zu diesem Treff sind alle eingeladen\, die ihr gesprochenes
  Deutsch verbessern wollen.\n\nKontakt: www.sah-sh.ch\nBushra Buff: 052
  630 06 40\n\nWeitere Infos: https://www.ref-sh.ch/veranstaltung/194005
SUMMARY:Konversations-Café - Deutsch lernen in gemütlicher Atmosphäre
PRIORITY:5
X-MICROSOFT-CDO-IMPORTANCE:1
CLASS:PUBLIC
END:VEVENT
END:VCALENDAR
