BEGIN:VCALENDAR
PRODID:-//kirchenweb.ch gmbh//veranstaltungsausgabe v2.0//DE
VERSION:2.0
METHOD:PUBLISH
BEGIN:VEVENT
DTSTART:20261121T080000Z
DTEND:20261121T110000Z
LOCATION:Nachbar\, Stahlgiesserei 15B\, 8200 Schaffhausen
TRANSP:OPAQUE
SEQUENCE:0
UID:193962-veranstaltung@ref-sh.ch
DTSTAMP:20260319T162004Z
DESCRIPTION:Mit Jonas Töngi von young@mission21\n\nab 8.30 Uhr Eintreffen
  mit Kaffee\, Gewürztee und Zopf \n9.00 Uhr Begrüssung und Einstieg
 \n9.10 Uhr Begegnung mit young@mission21\n10.00 Uhr PAUSE: \n10.30 Uhr
  Gruppengespräche: Inspiration für unsere Kirchgemeinden\n11.10 Uhr
  Plenum: Ideensammlung\n11.30 Uhr Ideenwand > was nehme ich mit?\n11.50
  Uhr Gemeinsamer Abschluss\n\nKontakt: doris.brodbeck@ref-sh.ch\n\nWeitere
  Infos: https://www.ref-sh.ch/veranstaltung/193962
SUMMARY:OeME-Konferenz
PRIORITY:5
X-MICROSOFT-CDO-IMPORTANCE:1
CLASS:PUBLIC
END:VEVENT
END:VCALENDAR
