BEGIN:VCALENDAR
PRODID:-//kirchenweb.ch gmbh//veranstaltungsausgabe v2.0//DE
VERSION:2.0
METHOD:PUBLISH
BEGIN:VEVENT
DTSTART;VALUE=DATE:20260823
DTEND;VALUE=DATE:20260824
LOCATION:Seefeld\, \,
TRANSP:OPAQUE
SEQUENCE:0
UID:193930-veranstaltung@ref-sh.ch
DTSTAMP:20260106T101255Z
DESCRIPTION:Gemeinsam verbringen wir eine Ferienwoche in Seefeld\, das
  mitten in den Tiroler Alpen auf einem sonnigen Hochplateau liegt. Seen
  laden zu Spaziergängen ein und die Bergwelt lockt mit herrlichen
  Aussichtspunkten. Unser Hotel ist zentral gelegen. Der Kurpark und auch
  die Fussgängerzone mit attraktiven Geschäften sind nur ein paar
  Schritte entfernt. \nWährend der ganzen Woche steht uns wiederum ein
  Reisecar mit Chauffeur zur Verfügung.\nAm Morgen sind jeweils eine
  Besinnung und Angebote zur Bewegung\, Geschicklichkeit und
  Gedächtnistraining auf dem Programm. Abends vertiefen wir unser
  Ferienmotto mit Geschichten\, Spielen und Vorträgen.\nIhr Team:
  Pfarrerin Dorothe Felix\, Béatrice Zingg\, Mitarbeiterin
  Sozialdiakonie\, Vreni Schaer\, Pflegefachfrau\nKosten: 	EZ Fr.
  1‘550.00 / DZ Fr.  1‘400.00 \nIm Preis enthalten sind: 7 Tage
  Vollpension im Hotel Central\, Reise und Ausflüge im Reisecar der Firma
  Rattin\, Mittagessen auf der Hin- und Rückreise\, Eintritte auf den
  Ausflügen.\n\n\n\nKontakt: Kirchgemeinde Herblingen\nBéatrice Zingg
 \nTrüllenbuck 61\n8207 Schaffhausen\nTel. 052 643 15 90\n\nWeitere Infos:
  https://www.ref-sh.ch/veranstaltung/193930
SUMMARY:Seniorenferien vom 23. August – 30. August 2026 in Seefeld im
  Tirol
PRIORITY:5
X-MICROSOFT-CDO-IMPORTANCE:1
CLASS:PUBLIC
END:VEVENT
END:VCALENDAR
