BEGIN:VCALENDAR
PRODID:-//kirchenweb.ch gmbh//veranstaltungsausgabe v2.0//DE
VERSION:2.0
METHOD:PUBLISH
BEGIN:VEVENT
DTSTART:20261114T070000Z
DTEND:20261114T150000Z
LOCATION:KGH Burg\, \,
TRANSP:OPAQUE
SEQUENCE:0
UID:193873-veranstaltung@ref-sh.ch
DTSTAMP:20260106T084632Z
DESCRIPTION:Kontakt: corinna.junger@ref-sh.ch\n\nWeitere Infos:
  https://www.ref-sh.ch/veranstaltung/193873
SUMMARY:Basar
PRIORITY:5
X-MICROSOFT-CDO-IMPORTANCE:1
CLASS:PUBLIC
END:VEVENT
END:VCALENDAR
