BEGIN:VCALENDAR
PRODID:-//kirchenweb.ch gmbh//veranstaltungsausgabe v2.0//DE
VERSION:2.0
METHOD:PUBLISH
BEGIN:VEVENT
DTSTART:20260109T130100Z
DTEND:20260109T130600Z
LOCATION:alle Kirchen nach Möglichkeit\, \,
TRANSP:OPAQUE
SEQUENCE:0
UID:193852-veranstaltung@ref-sh.ch
DTSTAMP:20260106T150734Z
DESCRIPTION:Solidarität\, die trägt: In Gedanken und Gebeten bei den
  Betroffenen von Crans-Montana\n\nAm Freitag 9. Januar nach dem
  Stundenschlag um 14 Uhr werden Kirchenglocken läuten. Die Kirchen sind
  geöffnet. \nHier findet sich ein Gebet der Verbundenheit mit den
  Betroffenen von Crans-Montana: \nhttps://www.ref-sh.ch/crans-montana \n
 \nIhre Landeskirchen\n\nKontakt: doris.brodbeck@ref-sh.ch\n\nWeitere
  Infos: https://www.ref-sh.ch/veranstaltung/193852
SUMMARY:Glockenläuten in Solidarität
PRIORITY:5
X-MICROSOFT-CDO-IMPORTANCE:1
CLASS:PUBLIC
END:VEVENT
END:VCALENDAR
