BEGIN:VCALENDAR
PRODID:-//kirchenweb.ch gmbh//veranstaltungsausgabe v2.0//DE
VERSION:2.0
METHOD:PUBLISH
BEGIN:VEVENT
DTSTART:20260109T130000Z
DTEND:20260109T132500Z
LOCATION:St.Johann\, Kirchhofplatz\, 8200 Schaffhausen
TRANSP:OPAQUE
SEQUENCE:0
UID:193812-veranstaltung@ref-sh.ch
DTSTAMP:20260109T043957Z
DESCRIPTION:Am 9. Januar 2026\, dem nationalen Trauertag nach der
  Brandkatastrophe in Crans-Montana\, werden um 14 Uhr schweizweit die
  Kirchenglocken läuten.  \nWährend des Glockengeläuts sind die Menschen
  eingeladen zum stillen Gebet\, zum Gedenken an die Verstorbenen\, zur
  Verbundenheit mit den Verletzten und ihren Angehörigen. Es ist auch ein
  Zeichen des Dankes an alle\, die mit unermüdlichem Einsatz dafür
  sorgen\, dass die Krise bewältigt werden kann. Dies gilt insbesondere
  für die Rettungskräfte\, die Menschen im medizinischen\,
  psychologischen\, seelsorglichen Dienst aber auch die politischen
  Verantwortungsträgerinnen und Verantwortungsträger.  \n\nDie
  Kirchgemeinde St.Johann-Münster öffnet ihre Kirchen während des ganzen
  Tages als Räume für Gebet\, Stille und Trauer. Um 14 Uhr werden wir in
  der Stadtkirche St. Johann in einer Andachtsfeier mit Stille\, Wort und
  Musik u.a. das Waadtländer Gebet halten. Wir hören gemeinsam das
  Glockengeläute und halten die landesweite Schweigeminute. Es besteht
  auch die Möglichkeit\, im Gedenken an die Betroffenen eine Kerze zu
  entzünden. Menschen aller Konfessionen und Religionen und
  Weltanschauungen sind dazu eingeladen und willkommen. \n
 \nKondolenzbezeugungen sind möglich hier online im
  https://www.admin.ch/gov/fr/accueil/conseil-federal/condoleances.html\n
 \nKontakt: Pfarrer Roland Diethelm\n\nWeitere Infos:
  https://www.ref-sh.ch/veranstaltung/193812
SUMMARY:Gebet zum nationalen Trauertag für die Brandkatastrophe in
  Crans-Montana
PRIORITY:5
X-MICROSOFT-CDO-IMPORTANCE:1
CLASS:PUBLIC
END:VEVENT
END:VCALENDAR
