BEGIN:VCALENDAR
PRODID:-//kirchenweb.ch gmbh//veranstaltungsausgabe v2.0//DE
VERSION:2.0
METHOD:PUBLISH
BEGIN:VEVENT
DTSTART:20260510T074500Z
DTEND:20260510T084500Z
LOCATION:Stadtkirche St. Georg\, Chirchhofplatz\, 8260 Stein am Rhein
TRANSP:OPAQUE
SEQUENCE:0
UID:193738-veranstaltung@ref-sh.ch
DTSTAMP:20260414T065245Z
DESCRIPTION:Orgel: Peter Leu\n\nKatechetin Bianca-Maria Veitl\n\nKontakt:
  Pfarrerin Dagmar Bertram\n\nWeitere Infos:
  https://www.ref-sh.ch/veranstaltung/193738
SUMMARY:Abendmahlsgottesdienst mit UNTI-Kindern
PRIORITY:5
X-MICROSOFT-CDO-IMPORTANCE:1
CLASS:PUBLIC
END:VEVENT
END:VCALENDAR
