BEGIN:VCALENDAR
PRODID:-//kirchenweb.ch gmbh//veranstaltungsausgabe v2.0//DE
VERSION:2.0
METHOD:PUBLISH
BEGIN:VEVENT
DTSTART:20260322T160000Z
DTEND:20260322T180000Z
LOCATION:Kirche Buchthalen\, Windeggstrasse 1\, 8203 Schaffhausen
TRANSP:OPAQUE
SEQUENCE:0
UID:193728-veranstaltung@ref-sh.ch
DTSTAMP:20260205T163007Z
DESCRIPTION:Was macht ein Chanson zum Chanson? Es erzählt Geschichten –
  leise\, pointiert und nah am Leben. Sie stehen im Zentrum\, getragen von
  Musik\, die Raum lässt für Zwischentöne. Adriana Di Cesare\, Gesang
  und Carlos Greull\, Klavier interpretieren französische Chansons\, wie
  sie durch Edith Piaf bekannt wurden\, literarische Lieder von Kurt
  Tucholsky sowie Chansons von Paul Burkhard und Mani Matter. Ergänzt
  durch deutsche Chansons Vor- und Nachkriegszeit lädt die Musiktankstelle
  zum aufmerksamen Hinhören ein.\nDie Kollekte ist bestimmt für das
  Tierheim Schaffhausen\n\nKontakt: Adriana Di Cesare\n\n\nWeitere Infos:
  https://www.ref-sh.ch/veranstaltung/193728
SUMMARY:Musiktankstelle mit Adriana Di Cesare & Carlos Greull
PRIORITY:5
X-MICROSOFT-CDO-IMPORTANCE:1
CLASS:PUBLIC
END:VEVENT
END:VCALENDAR
