BEGIN:VCALENDAR
PRODID:-//kirchenweb.ch gmbh//veranstaltungsausgabe v2.0//DE
VERSION:2.0
METHOD:PUBLISH
BEGIN:VEVENT
DTSTART;VALUE=DATE:20260514
DTEND;VALUE=DATE:20260515
LOCATION:Kollektenbeschrieb\, \,
TRANSP:OPAQUE
SEQUENCE:0
UID:193663-veranstaltung@ref-sh.ch
DTSTAMP:20260102T110551Z
DESCRIPTION:„Die Dargebotene Hand“ (K 9810)	\n\n„Die Dargebotene
  Hand“ ist bekannt durch die Telefonnummer 143\, die jedermann in einer
  Notlage anrufen kann. Ein Team von ausgebildeten Beraterinnen und
  Beratern nimmt sich Zeit zum Zuhören und\, wenn nötig\, um den
  Ratsuchenden Hilfe in verschiedener Form
  anzubieten. https://www.winterthur.143.ch\n
 \nhttps://winterthur.143.ch/Material\n	\nDiese gemeinsame
  Gottesdienstkollekte wird über die Zentralkasse überwiesen mit dem
  Vermerk der Kollektennummer (K 9810) auf Postkonto PC 82-447-5\, IBAN
  CH33 0900 0000 8200 0447 5\n\nhttp://www.ref-sh.ch/kollektenplan\n
 \nKontakt: Doris Brodbeck\n\nWeitere Infos:
  https://www.ref-sh.ch/veranstaltung/193663
SUMMARY:Auffahrtskollekte: Dargebotene Hand 143
PRIORITY:5
X-MICROSOFT-CDO-IMPORTANCE:1
CLASS:PUBLIC
END:VEVENT
END:VCALENDAR
