BEGIN:VCALENDAR
PRODID:-//kirchenweb.ch gmbh//veranstaltungsausgabe v2.0//DE
VERSION:2.0
METHOD:PUBLISH
BEGIN:VEVENT
DTSTART;VALUE=DATE:20260524
DTEND;VALUE=DATE:20260525
LOCATION:Kollektenbeschreibung\, \,  Schaffhausen
TRANSP:OPAQUE
SEQUENCE:0
UID:193662-veranstaltung@ref-sh.ch
DTSTAMP:20260102T110459Z
DESCRIPTION:Protestantische Solidarität Schaffhausen (K 9702)	\nMit der
  Pfingstkollekte wird der Religionsunterricht der reformierten
  Kirchgemeinden Bellinzona\, Locarno und Lugano unterstützt\, die alleine
  mit freiwilligen Beiträgen und Sonntagskollekten für ihre Ausgaben
  aufkommen müssen. Ausserdem startete die Protestantische Solidarität
  Schaffhausen mit einem Projekt für Sozialarbeit\, die die Vereinigten
  protestantischen Kirchen in Marseille leisten. Der Vorstand unterstützt
  bei Bedarf auch Projekte in osteuropäischen reformierten Kirchen.\n\nDie
  Protestantische Solidarität Schaffhausen (früher:
  Protestantisch-kirchlicher Hilfsverein des Kantons Schaffhausen)
  unterstützt seit seiner Gründung vor über 180 Jahren reformierte
  Gemeinden in der sogenannten Diaspora. \n
 \nhttps://www.ref-sh.ch/solidaritaet\n\nFoto
  https://www.ref-sh.ch/dok/49213\nBildlegende: Ferien- und Bildungshaus in
  Běleč\, Tschechien\n\nDiese gemeinsame Gottesdienstkollekte wird über
  die Zentralkasse überwiesen mit dem Vermerk der Kollektennummer (K 9702)
  auf Postkonto PC 82-447-5\, IBAN CH33 0900 0000 8200 0447 5 \nDen
  Kollektenverantwortlichen wurde ein Set von Kollekten-Einzahlungsscheinen
  zur Verfügung gestellt.\n\nhttp://www.ref-sh.ch/kollektenplan\n
 \nKontakt: Doris Brodbeck\n\nWeitere Infos:
  https://www.ref-sh.ch/veranstaltung/193662
SUMMARY:Pfingstkollekte: Protestantische Solidarität Schaffhausen
PRIORITY:5
X-MICROSOFT-CDO-IMPORTANCE:1
CLASS:PUBLIC
END:VEVENT
END:VCALENDAR
