BEGIN:VCALENDAR
PRODID:-//kirchenweb.ch gmbh//veranstaltungsausgabe v2.0//DE
VERSION:2.0
METHOD:PUBLISH
BEGIN:VEVENT
DTSTART:20260222T093000Z
DTEND:20260222T103000Z
LOCATION:Aula Ramsen\, Sonnenstrasse 420a\, 8262 Ramsen
TRANSP:OPAQUE
SEQUENCE:0
UID:193636-veranstaltung@ref-sh.ch
DTSTAMP:20260106T194934Z
DESCRIPTION:Aula Ramsen:\nÖkumenischer Familien- Gottesdienst mit MV
  Ramsen und verschiedenen Mitwirkenden ( Pastoralraumleiter Robert
  Weinbruch\, Prädikantin Petra Hofmann\, Unti- Kinder). Anschliessend
  Dünne- Essen (Wähe\, Kuchen)\n\nKontakt: Pastoralraumleiter Robert
  Weinbruch\, Prädikantin Petra Hofmann\n\nWeitere Infos:
  https://www.ref-sh.ch/veranstaltung/193636
SUMMARY:Ökumenischer Familiengottesdienst in der Aula Ramsen\,
  anschliessend Dünne-Essen.
PRIORITY:5
X-MICROSOFT-CDO-IMPORTANCE:1
CLASS:PUBLIC
END:VEVENT
END:VCALENDAR
