BEGIN:VCALENDAR
PRODID:-//kirchenweb.ch gmbh//veranstaltungsausgabe v2.0//DE
VERSION:2.0
METHOD:PUBLISH
BEGIN:VEVENT
DTSTART:20260227T081500Z
DTEND:20260227T090000Z
LOCATION:Ev.ref. Kirchgemeindehaus\, Bahnhofstrasse 274a\, 8262 Ramsen
TRANSP:OPAQUE
SEQUENCE:0
UID:193627-veranstaltung@ref-sh.ch
DTSTAMP:20260126T084453Z
DESCRIPTION:Freitags von 9.15 - 10.00 Uhr treffen wir uns  zum gemeinsamen
  Gebet im Kirchgemeindehaus Ramsen.  \n\n\nKontakt: Rita Wegmüller\n
 \nWeitere Infos: https://www.ref-sh.ch/veranstaltung/193627
SUMMARY:Gebetstreffen
PRIORITY:5
X-MICROSOFT-CDO-IMPORTANCE:1
CLASS:PUBLIC
END:VEVENT
END:VCALENDAR
