BEGIN:VCALENDAR
PRODID:-//kirchenweb.ch gmbh//veranstaltungsausgabe v2.0//DE
VERSION:2.0
METHOD:PUBLISH
BEGIN:VEVENT
DTSTART:20260213T110000Z
DTEND:20260213T120000Z
LOCATION:Ev.ref. Kirchgemeindehaus\, Bahnhofstrasse 274a\, 8262 Ramsen
TRANSP:OPAQUE
SEQUENCE:0
UID:193622-veranstaltung@ref-sh.ch
DTSTAMP:20260126T084438Z
DESCRIPTION:Anmeldungen für das Mittagessen bitte bis am 13. Februar 2026
  um 12.00 Uhr  bei Elfi Romberg\, Tel 052 740 13 58\n\nKontakt: Elfi
  Romberg 052 740 13 58\n\nWeitere Infos:
  https://www.ref-sh.ch/veranstaltung/193622
SUMMARY:Mittagstisch 50plus im Kirchgemeindehaus Ramsen.
PRIORITY:5
X-MICROSOFT-CDO-IMPORTANCE:1
CLASS:PUBLIC
END:VEVENT
END:VCALENDAR
