BEGIN:VCALENDAR
PRODID:-//kirchenweb.ch gmbh//veranstaltungsausgabe v2.0//DE
VERSION:2.0
METHOD:PUBLISH
BEGIN:VEVENT
DTSTART:20260226T083000Z
DTEND:20260226T100000Z
LOCATION:Ev.ref. Kirchgemeindehaus\, Bahnhofstrasse 274a\, 8262 Ramsen
TRANSP:OPAQUE
SEQUENCE:0
UID:193620-veranstaltung@ref-sh.ch
DTSTAMP:20260126T084452Z
DESCRIPTION:Jeweils Donnerstag\, 9.30 - 11 Uhr sind alle herzlich
  eingeladen\, sich zum "Treffpunkt Kirchgemeindehaus" im Kirchgemeindehaus
  Ramsen einzufinden!  \nGetränke und Zopf stehen bereit und ermöglichen
  gemütliches Beisammensein und angeregte Gespräche.\n\nUm die Zukunft zu
  sichern; braucht es weitere helfende Hände. Auskunft geben gerne Pfarrer
  Urs Wegmüller: 052 743 11 44 oder Kirchenstand- Ramsen- Präsident:
  Dieter Gurtner: 052 743 19 59\n\nAuskunft gibt gerne Pfr. Urs
  Wegmüller\, 052 743 11 44\, urs.wegmueller@ref-sh.ch.\n\n\n\nKontakt:
  Pfarrer Urs Wegmüller\n\nWeitere Infos:
  https://www.ref-sh.ch/veranstaltung/193620
SUMMARY:Treffpunkt Kirchgemeindehaus
PRIORITY:5
X-MICROSOFT-CDO-IMPORTANCE:1
CLASS:PUBLIC
END:VEVENT
END:VCALENDAR
