BEGIN:VCALENDAR
PRODID:-//kirchenweb.ch gmbh//veranstaltungsausgabe v2.0//DE
VERSION:2.0
METHOD:PUBLISH
BEGIN:VEVENT
DTSTART:20260906T090000Z
DTEND:20260906T100000Z
LOCATION:Kirche Hemmental\, Schlatterhof\, 8231 Hemmental
TRANSP:OPAQUE
SEQUENCE:0
UID:193495-veranstaltung@ref-sh.ch
DTSTAMP:20251229T163515Z
DESCRIPTION:Kontakt: Beat Wanner\n\nWeitere Infos:
  https://www.ref-sh.ch/veranstaltung/193495
SUMMARY:Gottesdienst
PRIORITY:5
X-MICROSOFT-CDO-IMPORTANCE:1
CLASS:PUBLIC
END:VEVENT
END:VCALENDAR
