BEGIN:VCALENDAR
PRODID:-//kirchenweb.ch gmbh//veranstaltungsausgabe v2.0//DE
VERSION:2.0
METHOD:PUBLISH
BEGIN:VEVENT
DTSTART:20260823T090000Z
DTEND:20260823T100000Z
LOCATION:Kirche Merishausen\, Kirchgasse \, 8232 Merishausen
TRANSP:OPAQUE
SEQUENCE:0
UID:193492-veranstaltung@ref-sh.ch
DTSTAMP:20251229T163502Z
DESCRIPTION:Kontakt: Andreas Storrer\n\nWeitere Infos:
  https://www.ref-sh.ch/veranstaltung/193492
SUMMARY:Gottesdienst mit Pfarrer Andreas Storrer
PRIORITY:5
X-MICROSOFT-CDO-IMPORTANCE:1
CLASS:PUBLIC
END:VEVENT
END:VCALENDAR
