BEGIN:VCALENDAR
PRODID:-//kirchenweb.ch gmbh//veranstaltungsausgabe v2.0//DE
VERSION:2.0
METHOD:PUBLISH
BEGIN:VEVENT
DTSTART:20260823T073000Z
DTEND:20260823T083000Z
LOCATION:Kirche Hemmental\, Schlatterhof\, 8231 Hemmental
TRANSP:OPAQUE
SEQUENCE:0
UID:193491-veranstaltung@ref-sh.ch
DTSTAMP:20260126T084648Z
DESCRIPTION:Kontakt: Andreas Storrer\n\nWeitere Infos:
  https://www.ref-sh.ch/veranstaltung/193491
SUMMARY:Gottesdienst mit Pfarrer Andreas Storrer
PRIORITY:5
X-MICROSOFT-CDO-IMPORTANCE:1
CLASS:PUBLIC
END:VEVENT
END:VCALENDAR
