BEGIN:VCALENDAR
PRODID:-//kirchenweb.ch gmbh//veranstaltungsausgabe v2.0//DE
VERSION:2.0
METHOD:PUBLISH
BEGIN:VEVENT
DTSTART:20260524T073000Z
DTEND:20260524T083000Z
LOCATION:Kirche Merishausen\, Kirchgasse \, 8232 Merishausen
TRANSP:OPAQUE
SEQUENCE:0
UID:193470-veranstaltung@ref-sh.ch
DTSTAMP:20251229T163302Z
DESCRIPTION:Kontakt: Ueli Leutwyler\n\nWeitere Infos:
  https://www.ref-sh.ch/veranstaltung/193470
SUMMARY:Gottesdienst mit Abendmahl mit Pfarrer Ueli Leutwyler
PRIORITY:5
X-MICROSOFT-CDO-IMPORTANCE:1
CLASS:PUBLIC
END:VEVENT
END:VCALENDAR
