BEGIN:VCALENDAR
PRODID:-//kirchenweb.ch gmbh//veranstaltungsausgabe v2.0//DE
VERSION:2.0
METHOD:PUBLISH
BEGIN:VEVENT
DTSTART:20260524T090000Z
DTEND:20260524T100000Z
LOCATION:Kirche Hemmental\, Schlatterhof\, 8231 Hemmental
TRANSP:OPAQUE
SEQUENCE:0
UID:193469-veranstaltung@ref-sh.ch
DTSTAMP:20260126T084605Z
DESCRIPTION:Kontakt: Ueli Leutwyler\n\nWeitere Infos:
  https://www.ref-sh.ch/veranstaltung/193469
SUMMARY:Gottesdienst mit Abendmahl mit Pfarrer Ueli Leutwyler
PRIORITY:5
X-MICROSOFT-CDO-IMPORTANCE:1
CLASS:PUBLIC
END:VEVENT
END:VCALENDAR
