BEGIN:VCALENDAR
PRODID:-//kirchenweb.ch gmbh//veranstaltungsausgabe v2.0//DE
VERSION:2.0
METHOD:PUBLISH
BEGIN:VEVENT
DTSTART:20260503T090000Z
DTEND:20260503T100000Z
LOCATION:Kirche Merishausen\, Kirchgasse\, 8232 Merishausen
TRANSP:OPAQUE
SEQUENCE:0
UID:193464-veranstaltung@ref-sh.ch
DTSTAMP:20251229T163235Z
DESCRIPTION:Kontakt: Beat Wanner\n\nWeitere Infos:
  https://www.ref-sh.ch/veranstaltung/193464
SUMMARY:Gottesdienst
PRIORITY:5
X-MICROSOFT-CDO-IMPORTANCE:1
CLASS:PUBLIC
END:VEVENT
END:VCALENDAR
