BEGIN:VCALENDAR
PRODID:-//kirchenweb.ch gmbh//veranstaltungsausgabe v2.0//DE
VERSION:2.0
METHOD:PUBLISH
BEGIN:VEVENT
DTSTART:20260426T170000Z
DTEND:20260426T180000Z
LOCATION:Kirche Hemmental\, Schlatterhof\, 8231 Hemmental
TRANSP:OPAQUE
SEQUENCE:0
UID:193463-veranstaltung@ref-sh.ch
DTSTAMP:20251229T163230Z
DESCRIPTION:Kontakt: Beat Wanner\n\nWeitere Infos:
  https://www.ref-sh.ch/veranstaltung/193463
SUMMARY:Abendgottesdienst anschliessend Kirchgemeindeversammlung
PRIORITY:5
X-MICROSOFT-CDO-IMPORTANCE:1
CLASS:PUBLIC
END:VEVENT
END:VCALENDAR
