BEGIN:VCALENDAR
PRODID:-//kirchenweb.ch gmbh//veranstaltungsausgabe v2.0//DE
VERSION:2.0
METHOD:PUBLISH
BEGIN:VEVENT
DTSTART:20260419T080000Z
DTEND:20260419T090000Z
LOCATION:Kirche Hemmental\, Schlatterhof\, 8231 Hemmental
TRANSP:OPAQUE
SEQUENCE:0
UID:193461-veranstaltung@ref-sh.ch
DTSTAMP:20260328T181055Z
DESCRIPTION:Kirchenkaffee\n\nKontakt: Beat Wanner\n\n\nWeitere Infos:
  https://www.ref-sh.ch/veranstaltung/193461
SUMMARY:Gottesdienst
PRIORITY:5
X-MICROSOFT-CDO-IMPORTANCE:1
CLASS:PUBLIC
END:VEVENT
END:VCALENDAR
