BEGIN:VCALENDAR
PRODID:-//kirchenweb.ch gmbh//veranstaltungsausgabe v2.0//DE
VERSION:2.0
METHOD:PUBLISH
BEGIN:VEVENT
DTSTART:20260419T170000Z
DTEND:20260419T180000Z
LOCATION:Schulhaus Bargen\, Schulstrasse 12\, 8233 Bargen
TRANSP:OPAQUE
SEQUENCE:0
UID:193460-veranstaltung@ref-sh.ch
DTSTAMP:20260329T153004Z
DESCRIPTION:Kontakt: Beat Wanner\n\nWeitere Infos:
  https://www.ref-sh.ch/veranstaltung/193460
SUMMARY:Abendgottesdienst
PRIORITY:5
X-MICROSOFT-CDO-IMPORTANCE:1
CLASS:PUBLIC
END:VEVENT
END:VCALENDAR
