BEGIN:VCALENDAR
PRODID:-//kirchenweb.ch gmbh//veranstaltungsausgabe v2.0//DE
VERSION:2.0
METHOD:PUBLISH
BEGIN:VEVENT
DTSTART:20261105T111500Z
DTEND:20261105T130000Z
LOCATION:HofAckerZentrum\, Alpenstrasse 176\, 8203 Schaffhausen
TRANSP:OPAQUE
SEQUENCE:0
UID:193425-veranstaltung@ref-sh.ch
DTSTAMP:20260126T084715Z
DESCRIPTION:Herzlich willkommen an unseren Mittagstisch!\nWir freuen uns
  auf viele Gäste\, egal\, ob Sie alleine\, mit Freunden oder als Familie
  kommen.\nGeniessen Sie ein feines Essen in netter Gesellschaft. \nKosten:
  10 Franken pro Person\, Kinder bis 12 Jahre essen für 5 Franken.\n \n
 \nKontakt: Adriana Di Cesare \n\nWeitere Infos:
  https://www.ref-sh.ch/veranstaltung/193425
SUMMARY:Mittagstisch
PRIORITY:5
X-MICROSOFT-CDO-IMPORTANCE:1
CLASS:PUBLIC
END:VEVENT
END:VCALENDAR
