BEGIN:VCALENDAR
PRODID:-//kirchenweb.ch gmbh//veranstaltungsausgabe v2.0//DE
VERSION:2.0
METHOD:PUBLISH
BEGIN:VEVENT
DTSTART:20261017T110000Z
DTEND:20261017T130000Z
LOCATION:Kirche Osterfingen\, Dorfstrasse 78\, 8218 Osterfingen
TRANSP:OPAQUE
SEQUENCE:0
UID:193407-veranstaltung@ref-sh.ch
DTSTAMP:20251226T152536Z
DESCRIPTION:Kontakt: karin.stoessel@ref-sh.ch\n\nWeitere Infos:
  https://www.ref-sh.ch/veranstaltung/193407
SUMMARY:Trauung
PRIORITY:5
X-MICROSOFT-CDO-IMPORTANCE:1
CLASS:PUBLIC
END:VEVENT
END:VCALENDAR
