BEGIN:VCALENDAR
PRODID:-//kirchenweb.ch gmbh//veranstaltungsausgabe v2.0//DE
VERSION:2.0
METHOD:PUBLISH
BEGIN:VEVENT
DTSTART:20260305T130000Z
DTEND:20260305T150000Z
LOCATION:HofAckerZentrum\, Alpenstrasse 176\, 8203 Schaffhausen
TRANSP:OPAQUE
SEQUENCE:0
UID:193352-veranstaltung@ref-sh.ch
DTSTAMP:20260126T084459Z
DESCRIPTION:Theres Hintsch zeigt die Technik des Aquarellmalens. Der
  Einstieg in diesen Kurs ist jederzeit möglich. \nFreude am Malen in
  ungezwungener Atmosphäre\, dann kommen Sie doch vorbei! \nEs werden
  keine Vorkenntnisse erwartet.\nKosten 7.--/Nachmittag\, 14.00 - 16.00 Uhr
 \n\nMitzubringen sind: Zeichenblock\, Pinsel\, Aquarellfarben\n\n
 \nKontakt: Gabriela Thoma Wassermann\n\nWeitere Infos:
  https://www.ref-sh.ch/veranstaltung/193352
SUMMARY:Malkurs
PRIORITY:5
X-MICROSOFT-CDO-IMPORTANCE:1
CLASS:PUBLIC
END:VEVENT
END:VCALENDAR
