BEGIN:VCALENDAR
PRODID:-//kirchenweb.ch gmbh//veranstaltungsausgabe v2.0//DE
VERSION:2.0
METHOD:PUBLISH
BEGIN:VEVENT
DTSTART:20260313T083000Z
DTEND:20260313T093000Z
LOCATION:Saal Pfarrhaus\, Gässli 9\, 8235 Lohn
TRANSP:OPAQUE
SEQUENCE:0
UID:193332-veranstaltung@ref-sh.ch
DTSTAMP:20251222T165017Z
DESCRIPTION:Mütter- und Väterberatung\nTel. 052 632 51 21\n\nBitte
  mitbringen:\n- Windel\n- Wickelunterlage\n- Gesundheitsbüchlein\n
 \nTelefon-Beratung: Montag bis Freitag\, 052 632 51 20/21\nTeamMVB@stsh.ch
 \n\nKontakt: kaethi.leu@ref-sh.ch\n\nWeitere Infos:
  https://www.ref-sh.ch/veranstaltung/193332
SUMMARY:Mütter- und Väterberatung
PRIORITY:5
X-MICROSOFT-CDO-IMPORTANCE:1
CLASS:PUBLIC
END:VEVENT
END:VCALENDAR
