BEGIN:VCALENDAR
PRODID:-//kirchenweb.ch gmbh//veranstaltungsausgabe v2.0//DE
VERSION:2.0
METHOD:PUBLISH
BEGIN:VEVENT
DTSTART:20261029T183000Z
DTEND:20261029T203000Z
LOCATION:Kirchgemeindehaus Neuhausen am Rheinfall\, Zentralstrasse 32\,
  8212 Neuhausen am Rheinfall
TRANSP:OPAQUE
SEQUENCE:0
UID:193198-veranstaltung@ref-sh.ch
DTSTAMP:20251222T082321Z
DESCRIPTION:Dieses Treffen dient der Vorbereitung auf die Wintersynode am
  18. November 2026.\nIm ersten Teil informieren Vertreter/innen des
  Kirchenrats über einzelne Geschäfte und beantworten Sachfragen.
 \nAnschliessend beraten die beiden Fraktionen (Evangelisch-kirchliche
  Fraktion und Fraktion offene Kirche) in getrennten Räumen weiter.\n
 \nKontakt: Beat Frefel\nMarianne Näf-Bräker\n\n\nWeitere Infos:
  https://www.ref-sh.ch/veranstaltung/193198
SUMMARY:Fraktionsversammlungen der Synode
PRIORITY:5
X-MICROSOFT-CDO-IMPORTANCE:1
CLASS:PUBLIC
END:VEVENT
END:VCALENDAR
