BEGIN:VCALENDAR
PRODID:-//kirchenweb.ch gmbh//veranstaltungsausgabe v2.0//DE
VERSION:2.0
METHOD:PUBLISH
BEGIN:VEVENT
DTSTART:20260601T170000Z
DTEND:20260601T193000Z
LOCATION:Saal der Steigkirche Schaffhausen\, Nordstrasse 33\, 8200
  Schaffhausen
TRANSP:OPAQUE
SEQUENCE:0
UID:193197-veranstaltung@ref-sh.ch
DTSTAMP:20260324T180407Z
DESCRIPTION:Dieses Treffen dient der Vorbereitung auf die Sommersynode am
  17. Juni 2026.\nIm ersten Teil informieren Vertreter/innen des
  Kirchenrats über einzelne Geschäfte und beantworten Sachfragen.
 \nAnschliessend beraten die beiden Fraktionen (Evangelisch-kirchliche
  Fraktion und Fraktion offene Kirche) in getrennten Räumen weiter.\n
 \nKontakt: Beat Frefel\nMarianne Näf-Bräker\n\n\nWeitere Infos:
  https://www.ref-sh.ch/veranstaltung/193197
SUMMARY:Fraktionsversammlungen der Synode
PRIORITY:5
X-MICROSOFT-CDO-IMPORTANCE:1
CLASS:PUBLIC
END:VEVENT
END:VCALENDAR
