BEGIN:VCALENDAR
PRODID:-//kirchenweb.ch gmbh//veranstaltungsausgabe v2.0//DE
VERSION:2.0
METHOD:PUBLISH
BEGIN:VEVENT
DTSTART:20260517T074500Z
DTEND:20260517T084500Z
LOCATION:Reformierte Kirche Thayngen\, Kirchplatz 2\, 8240 Thayngen
TRANSP:OPAQUE
SEQUENCE:0
UID:193014-veranstaltung@ref-sh.ch
DTSTAMP:20260126T084559Z
DESCRIPTION:Pfarrerin Britta Schönberger\n\nKontakt: Pfrn. Britta
  Schönberger\n\nWeitere Infos: https://www.ref-sh.ch/veranstaltung/193014
SUMMARY:Gottesdienst
PRIORITY:5
X-MICROSOFT-CDO-IMPORTANCE:1
CLASS:PUBLIC
END:VEVENT
END:VCALENDAR
