BEGIN:VCALENDAR
PRODID:-//kirchenweb.ch gmbh//veranstaltungsausgabe v2.0//DE
VERSION:2.0
METHOD:PUBLISH
BEGIN:VEVENT
DTSTART:20260514T083000Z
DTEND:20260514T093000Z
LOCATION:Schulhaus Barzheim\, Chirchegass 5\, 8241 Barzheim
TRANSP:OPAQUE
SEQUENCE:0
UID:193013-veranstaltung@ref-sh.ch
DTSTAMP:20260415T103925Z
DESCRIPTION:Pfarrerin Britta Schönberger\n\nIm Anschluss
  Grill–Verpflegungsmöglichkeit (bitte Grillgut selbst mitbringen)
  Getränke\, Kaffee und Kuchen können am Stand des Quartiervereins IMNO
  Barze gekauft werden.\n(Schlechtwetter: Scheune Familie Sonderegger\,
  Hegaustrasse).\n\n\nKontakt: Pfrn. Britta Schönberger\n\nWeitere Infos:
  https://www.ref-sh.ch/veranstaltung/193013
SUMMARY:Auffahrtsgottesdienst in Barzheim
PRIORITY:5
X-MICROSOFT-CDO-IMPORTANCE:1
CLASS:PUBLIC
END:VEVENT
END:VCALENDAR
