BEGIN:VCALENDAR
PRODID:-//kirchenweb.ch gmbh//veranstaltungsausgabe v2.0//DE
VERSION:2.0
METHOD:PUBLISH
BEGIN:VEVENT
DTSTART:20260510T173000Z
DTEND:20260510T183000Z
LOCATION:Kirche Opfertshofen\, Dorfstrasse 12\, 8236 Opfertshofen
TRANSP:OPAQUE
SEQUENCE:0
UID:193012-veranstaltung@ref-sh.ch
DTSTAMP:20260216T092146Z
DESCRIPTION:Pfarrerin Britta Schönberger\n\nKontakt: Pfrn. Britta
  Schönberger\n\nWeitere Infos: https://www.ref-sh.ch/veranstaltung/193012
SUMMARY:Gottesdienst
PRIORITY:5
X-MICROSOFT-CDO-IMPORTANCE:1
CLASS:PUBLIC
END:VEVENT
END:VCALENDAR
