BEGIN:VCALENDAR
PRODID:-//kirchenweb.ch gmbh//veranstaltungsausgabe v2.0//DE
VERSION:2.0
METHOD:PUBLISH
BEGIN:VEVENT
DTSTART:20260520T173000Z
DTEND:20260520T193000Z
LOCATION:Gemeindehaussaal\, Gemeindehausplatz 3\, 8214 Gächlingen
TRANSP:OPAQUE
SEQUENCE:0
UID:192993-veranstaltung@ref-sh.ch
DTSTAMP:20260316T154718Z
DESCRIPTION:Es gibt im Alten und Neuen Testament Texte\, in denen uns
  Quellen zum Leben angeboten werden: Quellen für unser Unterwegssein\,
  Quellen mitten in der Wüste\, Quellen mitten im alltäglichen Leben.\nIn
  diesem Kurs schauen wir uns vier Bibeltexte genauer an und lassen uns von
  ihnen inspirieren:\nBaum an den Wasserbächen; Frau am Jakobsbrunnen;
  Gleichnis vom vierfachen Ackerfeld; Emmaus-Jünger\nWir arbeiten mit dem
  Material von "Stufen des Lebens".\n\nDer Kurs ist kostenlos. \n\nKontakt:
  Marianne Näf-Bräker \, Eva Werner\n\n\n\nWeitere Infos:
  https://www.ref-sh.ch/veranstaltung/192993
SUMMARY:Quellen\, aus denen Leben fliesst - ein Kurs für alle
PRIORITY:5
X-MICROSOFT-CDO-IMPORTANCE:1
CLASS:PUBLIC
END:VEVENT
END:VCALENDAR
