BEGIN:VCALENDAR
PRODID:-//kirchenweb.ch gmbh//veranstaltungsausgabe v2.0//DE
VERSION:2.0
METHOD:PUBLISH
BEGIN:VEVENT
DTSTART:20260628T130000Z
DTEND:20260628T170000Z
LOCATION:Kirchgemeindehaus Beringen\, Steig 2\, 8222 Beringen
TRANSP:OPAQUE
SEQUENCE:0
UID:192891-veranstaltung@ref-sh.ch
DTSTAMP:20260126T084624Z
DESCRIPTION:Die Kleingruppe von Martin Schnetzler trifft sich jeweils
  montags oder sonntags in Beringen\, um zusammen zu kochen und die
  Beziehung zu Gott und zueinander zu pflegen\n\nKontakt: Martin Schnetzler
  077 469 16 12\n\nWeitere Infos:
  https://www.ref-sh.ch/veranstaltung/192891
SUMMARY:Teenager-Kleingruppe
PRIORITY:5
X-MICROSOFT-CDO-IMPORTANCE:1
CLASS:PUBLIC
END:VEVENT
END:VCALENDAR
