BEGIN:VCALENDAR
PRODID:-//kirchenweb.ch gmbh//veranstaltungsausgabe v2.0//DE
VERSION:2.0
METHOD:PUBLISH
BEGIN:VEVENT
DTSTART:20260504T163000Z
DTEND:20260504T200000Z
LOCATION:Kirchgemeindehaus Beringen\, Steig 2\, 8222 Beringen
TRANSP:OPAQUE
SEQUENCE:0
UID:192882-veranstaltung@ref-sh.ch
DTSTAMP:20260126T084551Z
DESCRIPTION:Die Kleingruppe von Martin Schnetzler trifft sich jeweils
  montags in Beringen\, um zusammen zu kochen und die Beziehung zu Gott und
  zueinander zu pflegen\n\nKontakt: Martin Schnetzler 077 469 16 12\n
 \nWeitere Infos: https://www.ref-sh.ch/veranstaltung/192882
SUMMARY:Teenager-Kleingruppe
PRIORITY:5
X-MICROSOFT-CDO-IMPORTANCE:1
CLASS:PUBLIC
END:VEVENT
END:VCALENDAR
