BEGIN:VCALENDAR
PRODID:-//kirchenweb.ch gmbh//veranstaltungsausgabe v2.0//DE
VERSION:2.0
METHOD:PUBLISH
BEGIN:VEVENT
DTSTART:20260620T110000Z
DTEND:20260620T152000Z
LOCATION:folgt noch\, \,
TRANSP:OPAQUE
SEQUENCE:0
UID:192800-veranstaltung@ref-sh.ch
DTSTAMP:20251212T192121Z
DESCRIPTION:WIr verbringen einen gemeinsamen Nachmittag mit der Jungschar!
  Genauere Infos folgen.\n\n\n\nKontakt: Anja Ryser\n\nWeitere Infos:
  https://www.ref-sh.ch/veranstaltung/192800
SUMMARY:Ameisli & Jungschi
PRIORITY:5
X-MICROSOFT-CDO-IMPORTANCE:1
CLASS:PUBLIC
END:VEVENT
END:VCALENDAR
