BEGIN:VCALENDAR
PRODID:-//kirchenweb.ch gmbh//veranstaltungsausgabe v2.0//DE
VERSION:2.0
METHOD:PUBLISH
BEGIN:VEVENT
DTSTART:20260731T220000Z
DTEND:20260801T215900Z
LOCATION:Kirchgemeindehaus Beringen\, Steig 2\, 8222 Beringen
TRANSP:OPAQUE
SEQUENCE:0
UID:192654-veranstaltung@ref-sh.ch
DTSTAMP:20260126T084639Z
DESCRIPTION:Das Kirchgemeindehaus bleibt während der mittleren drei
  Sommerferienwochen geschlossen.\n\nKontakt: Fabienne Anghel\, Steig 2\,
  8222 Beringen\, fabienne.anghel@ref-sh.ch\, 052 685 01 76\n\nWeitere
  Infos: https://www.ref-sh.ch/veranstaltung/192654
SUMMARY:Schliessung Kirchgemeindehaus
PRIORITY:5
X-MICROSOFT-CDO-IMPORTANCE:1
CLASS:PUBLIC
END:VEVENT
END:VCALENDAR
