BEGIN:VCALENDAR
PRODID:-//kirchenweb.ch gmbh//veranstaltungsausgabe v2.0//DE
VERSION:2.0
METHOD:PUBLISH
BEGIN:VEVENT
DTSTART:20260609T054500Z
DTEND:20260609T061500Z
LOCATION:Kirche Buchthalen\, Windeggstrasse 1\, 8203 Schaffhausen
TRANSP:OPAQUE
SEQUENCE:0
UID:192598-veranstaltung@ref-sh.ch
DTSTAMP:20260126T084614Z
DESCRIPTION:Ein Moment des Innehaltens und des Austauschs\, Sie sind
  herzlich eingeladen!\n\nKontakt: Pfrn. Livia Strauss\n\nWeitere Infos:
  https://www.ref-sh.ch/veranstaltung/192598
SUMMARY:Morgenbesinnung
PRIORITY:5
X-MICROSOFT-CDO-IMPORTANCE:1
CLASS:PUBLIC
END:VEVENT
END:VCALENDAR
