BEGIN:VCALENDAR
PRODID:-//kirchenweb.ch gmbh//veranstaltungsausgabe v2.0//DE
VERSION:2.0
METHOD:PUBLISH
BEGIN:VEVENT
DTSTART:20260614T073000Z
DTEND:20260614T083000Z
LOCATION:Kirche Buchthalen\, Windeggstrasse 1\, 8203 Schaffhausen
TRANSP:OPAQUE
SEQUENCE:0
UID:192563-veranstaltung@ref-sh.ch
DTSTAMP:20260210T091349Z
DESCRIPTION:Anschliessend Apéro und Exkursion in Buchthalen mit Urs
  Capaul (Thema Ernährung)\nApéro von Melanie De Matteis\n\nKontakt:
  Pfrn. Beatrice Kunz Pfeiffer\n\nWeitere Infos:
  https://www.ref-sh.ch/veranstaltung/192563
SUMMARY:Gottesdienst mit Abendmahl
PRIORITY:5
X-MICROSOFT-CDO-IMPORTANCE:1
CLASS:PUBLIC
END:VEVENT
END:VCALENDAR
