BEGIN:VCALENDAR
PRODID:-//kirchenweb.ch gmbh//veranstaltungsausgabe v2.0//DE
VERSION:2.0
METHOD:PUBLISH
BEGIN:VEVENT
DTSTART:20261209T084500Z
DTEND:20261209T093000Z
LOCATION:Altersheim Schleitheim\, Alte Beggingerstrasse 60\, 8226
  Schleitheim\, \,
TRANSP:OPAQUE
SEQUENCE:0
UID:192548-veranstaltung@ref-sh.ch
DTSTAMP:20260105T164338Z
DESCRIPTION:Kontakt: Pfr. Heinz Dutler\n\nWeitere Infos:
  https://www.ref-sh.ch/veranstaltung/192548
SUMMARY:Andacht im Altersheim Schleitheim
PRIORITY:5
X-MICROSOFT-CDO-IMPORTANCE:1
CLASS:PUBLIC
END:VEVENT
END:VCALENDAR
