BEGIN:VCALENDAR
PRODID:-//kirchenweb.ch gmbh//veranstaltungsausgabe v2.0//DE
VERSION:2.0
METHOD:PUBLISH
BEGIN:VEVENT
DTSTART:20261202T084500Z
DTEND:20261202T093000Z
LOCATION:Altersheim Schleitheim\, Alte Beggingerstrasse 60\, 8226
  Schleitheim\, \,
TRANSP:OPAQUE
SEQUENCE:0
UID:192547-veranstaltung@ref-sh.ch
DTSTAMP:20260105T164237Z
DESCRIPTION:Kontakt: Pfarrer Stefan Zolliker\n\nWeitere Infos:
  https://www.ref-sh.ch/veranstaltung/192547
SUMMARY:Andacht im Altersheim Schleitheim
PRIORITY:5
X-MICROSOFT-CDO-IMPORTANCE:1
CLASS:PUBLIC
END:VEVENT
END:VCALENDAR
