BEGIN:VCALENDAR
PRODID:-//kirchenweb.ch gmbh//veranstaltungsausgabe v2.0//DE
VERSION:2.0
METHOD:PUBLISH
BEGIN:VEVENT
DTSTART:20261014T074500Z
DTEND:20261014T083000Z
LOCATION:Altersheim Schleitheim\, Alte Beggingerstrasse 60\, 8226
  Schleitheim\, \,
TRANSP:OPAQUE
SEQUENCE:0
UID:192540-veranstaltung@ref-sh.ch
DTSTAMP:20260105T163721Z
DESCRIPTION:Kontakt: Ruth Sonderegger\n\nWeitere Infos:
  https://www.ref-sh.ch/veranstaltung/192540
SUMMARY:Andacht im Altersheim Schleitheim
PRIORITY:5
X-MICROSOFT-CDO-IMPORTANCE:1
CLASS:PUBLIC
END:VEVENT
END:VCALENDAR
