BEGIN:VCALENDAR
PRODID:-//kirchenweb.ch gmbh//veranstaltungsausgabe v2.0//DE
VERSION:2.0
METHOD:PUBLISH
BEGIN:VEVENT
DTSTART:20260530T074500Z
DTEND:20260530T100000Z
LOCATION:Ochseschüür\, Pfrundhausgasse 3\, 8200 Schaffhausen
TRANSP:OPAQUE
SEQUENCE:0
UID:192347-veranstaltung@ref-sh.ch
DTSTAMP:20251210T135900Z
DESCRIPTION:Kontakt: Brigitte Hanhart Calmel\, Edith von Dach\, Eric
  Hiltbrunner\n\nWeitere Infos: https://www.ref-sh.ch/veranstaltung/192347
SUMMARY:Lecture
PRIORITY:5
X-MICROSOFT-CDO-IMPORTANCE:1
CLASS:PUBLIC
END:VEVENT
END:VCALENDAR
