BEGIN:VCALENDAR
PRODID:-//kirchenweb.ch gmbh//veranstaltungsausgabe v2.0//DE
VERSION:2.0
METHOD:PUBLISH
BEGIN:VEVENT
DTSTART:20261004T081500Z
DTEND:20261004T093000Z
LOCATION:Chapelle Ste Anne du Münster\, \,
TRANSP:OPAQUE
SEQUENCE:0
UID:192313-veranstaltung@ref-sh.ch
DTSTAMP:20251210T100528Z
DESCRIPTION:Kontakt: jean.hiltbrunner@ref-sh.ch\n\nWeitere Infos:
  https://www.ref-sh.ch/veranstaltung/192313
SUMMARY:Culte
PRIORITY:5
X-MICROSOFT-CDO-IMPORTANCE:1
CLASS:PUBLIC
END:VEVENT
END:VCALENDAR
