BEGIN:VCALENDAR
PRODID:-//kirchenweb.ch gmbh//veranstaltungsausgabe v2.0//DE
VERSION:2.0
METHOD:PUBLISH
BEGIN:VEVENT
DTSTART:20260607T081500Z
DTEND:20260607T093000Z
LOCATION:Mörderrain\, \,  Hallau
TRANSP:OPAQUE
SEQUENCE:0
UID:192310-veranstaltung@ref-sh.ch
DTSTAMP:20260325T144153Z
DESCRIPTION:Kontakt: jean.hiltbrunner@ref-sh.ch\n\nWeitere Infos:
  https://www.ref-sh.ch/veranstaltung/192310
SUMMARY:Culte en plein air suivi d'une grillade
PRIORITY:5
X-MICROSOFT-CDO-IMPORTANCE:1
CLASS:PUBLIC
END:VEVENT
END:VCALENDAR
