BEGIN:VCALENDAR
PRODID:-//kirchenweb.ch gmbh//veranstaltungsausgabe v2.0//DE
VERSION:2.0
METHOD:PUBLISH
BEGIN:VEVENT
DTSTART:20260218T180000Z
DTEND:20260218T220000Z
LOCATION:NACHBAR Stahlgiesserei\, Stahlgiesserei 15B\, 8200 Schaffhausen
TRANSP:OPAQUE
SEQUENCE:0
UID:192297-veranstaltung@ref-sh.ch
DTSTAMP:20251210T101206Z
DESCRIPTION:Kontakt: Pfrn. Miriam Gehrke\n\nWeitere Infos:
  https://www.ref-sh.ch/veranstaltung/192297
SUMMARY:Spieleabend mit Amelie
PRIORITY:5
X-MICROSOFT-CDO-IMPORTANCE:1
CLASS:PUBLIC
END:VEVENT
END:VCALENDAR
