BEGIN:VCALENDAR
PRODID:-//kirchenweb.ch gmbh//veranstaltungsausgabe v2.0//DE
VERSION:2.0
METHOD:PUBLISH
BEGIN:VEVENT
DTSTART:20261122T090000Z
DTEND:20261122T150000Z
LOCATION:Pavillon\, Nordstrasse 33\, 8200 Schaffhausen
TRANSP:OPAQUE
SEQUENCE:0
UID:192238-veranstaltung@ref-sh.ch
DTSTAMP:20260126T084724Z
DESCRIPTION:10 - 16 Uhr. Mit Kafistübli (Kaffee/Tee\, Kuchen\, Hot-Dogs)
 \n\nKontakt: Katrin von Arx\n\nWeitere Infos:
  https://www.ref-sh.ch/veranstaltung/192238
SUMMARY:Kerzenziehen
PRIORITY:5
X-MICROSOFT-CDO-IMPORTANCE:1
CLASS:PUBLIC
END:VEVENT
END:VCALENDAR
