BEGIN:VCALENDAR
PRODID:-//kirchenweb.ch gmbh//veranstaltungsausgabe v2.0//DE
VERSION:2.0
METHOD:PUBLISH
BEGIN:VEVENT
DTSTART:20260917T121500Z
DTEND:20260917T143000Z
LOCATION:Wilchingen\, \,
TRANSP:OPAQUE
SEQUENCE:0
UID:192204-veranstaltung@ref-sh.ch
DTSTAMP:20251209T100045Z
DESCRIPTION:Sich Zeit nehmen\, erzählen und zuhören auf dem Rossberghof.
 \nThema: Sonntagskleider - Werktagskleider\n\nKontakt:
  manuela.baumann@ref-sh.ch\n\nWeitere Infos:
  https://www.ref-sh.ch/veranstaltung/192204
SUMMARY:Erzählcafé
PRIORITY:5
X-MICROSOFT-CDO-IMPORTANCE:1
CLASS:PUBLIC
END:VEVENT
END:VCALENDAR
