BEGIN:VCALENDAR
PRODID:-//kirchenweb.ch gmbh//veranstaltungsausgabe v2.0//DE
VERSION:2.0
METHOD:PUBLISH
BEGIN:VEVENT
DTSTART:20260630T121500Z
DTEND:20260630T143000Z
LOCATION:Wilchingen\, \,
TRANSP:OPAQUE
SEQUENCE:0
UID:192203-veranstaltung@ref-sh.ch
DTSTAMP:20260408T131405Z
DESCRIPTION:Sich Zeit nehmen\, erzählen und zuhören auf dem
  Wilchingerberg bei Beat und Tabitha Hallauer.\n\nThema\n«Erziehung in
  meiner Kinder- und Jugendzeit – Was ist mir in Erinnerung geblieben?» 
 \n(Disziplin-Regeln-Grenzen\, Arbeit-Pflichten\, Freiräume-Spiel\, Lob
  und Tadel\, Streiche\, Strafen\, Strenge-Milde\, Unterschiede: Buebe und
  Meitli) \n\nVerpflegung\nZobedplättli für ca. Fr. 16.-. Bitte mit der
  Anmeldung bestellen!\n\nAnmeldeschluss\nFreitag\, 26. Juni 2026\n
 \nFahrdienst\nWer eine Transportmöglichkeit benötigt oder selbst fährt
  und noch freie Plätze hat\nbitte ebenfalls mitteilen. \n\n\nKontakt:
  manuela.baumann@ref-sh.ch\n\nWeitere Infos:
  https://www.ref-sh.ch/veranstaltung/192203
SUMMARY:Erzählcafé
PRIORITY:5
X-MICROSOFT-CDO-IMPORTANCE:1
CLASS:PUBLIC
END:VEVENT
END:VCALENDAR
