BEGIN:VCALENDAR
PRODID:-//kirchenweb.ch gmbh//veranstaltungsausgabe v2.0//DE
VERSION:2.0
METHOD:PUBLISH
BEGIN:VEVENT
DTSTART:20260407T121500Z
DTEND:20260407T143000Z
LOCATION:Hallau\, \,
TRANSP:OPAQUE
SEQUENCE:0
UID:192202-veranstaltung@ref-sh.ch
DTSTAMP:20260210T165225Z
DESCRIPTION:Sich Zeit nehmen\, erzählen und zuhören in der Winzerstube
  der Familie Keller.\nThema: «Was auf den Tisch kam…» \n\nVerpflegung:
  Familie Keller offeriert Fleisch-Chäsplättli mit hausgemachtem
  Buurebrot für Fr. 17.- Bitte mit der Anmeldung bestellen!\n\nKontakt:
  manuela.baumann@ref-sh.ch\n\nWeitere Infos:
  https://www.ref-sh.ch/veranstaltung/192202
SUMMARY:Erzählcafé
PRIORITY:5
X-MICROSOFT-CDO-IMPORTANCE:1
CLASS:PUBLIC
END:VEVENT
END:VCALENDAR
